BEGIN:VCALENDAR
VERSION:2.0
PRODID:-//SP Kanton Luzern - ECPv6.15.20//NONSGML v1.0//EN
CALSCALE:GREGORIAN
METHOD:PUBLISH
X-WR-CALNAME:SP Kanton Luzern
X-ORIGINAL-URL:https://sp-luzern.ch
X-WR-CALDESC:Veranstaltungen im SP Kanton Luzern
REFRESH-INTERVAL;VALUE=DURATION:PT1H
X-Robots-Tag:noindex
X-PUBLISHED-TTL:PT1H
BEGIN:VTIMEZONE
TZID:Europe/Zurich
BEGIN:DAYLIGHT
TZOFFSETFROM:+0100
TZOFFSETTO:+0200
TZNAME:CEST
DTSTART:20250330T010000
END:DAYLIGHT
BEGIN:STANDARD
TZOFFSETFROM:+0200
TZOFFSETTO:+0100
TZNAME:CET
DTSTART:20251026T010000
END:STANDARD
BEGIN:DAYLIGHT
TZOFFSETFROM:+0100
TZOFFSETTO:+0200
TZNAME:CEST
DTSTART:20260329T010000
END:DAYLIGHT
BEGIN:STANDARD
TZOFFSETFROM:+0200
TZOFFSETTO:+0100
TZNAME:CET
DTSTART:20261025T010000
END:STANDARD
BEGIN:DAYLIGHT
TZOFFSETFROM:+0100
TZOFFSETTO:+0200
TZNAME:CEST
DTSTART:20270328T010000
END:DAYLIGHT
BEGIN:STANDARD
TZOFFSETFROM:+0200
TZOFFSETTO:+0100
TZNAME:CET
DTSTART:20271031T010000
END:STANDARD
END:VTIMEZONE
BEGIN:VEVENT
DTSTART;TZID=Europe/Zurich:20260328T090000
DTEND;TZID=Europe/Zurich:20260328T130000
DTSTAMP:20260421T104122
CREATED:20260211T145454Z
LAST-MODIFIED:20260226T131236Z
UID:90908-1774688400-1774702800@sp-luzern.ch
SUMMARY:Abzocker-Initiativen: Kantonaler Sammeltag
DESCRIPTION:Wir sammeln für unsere Abzocker-Initiativen: \nEbikon\, Ladengasse\, 9.30-12 Uhr\nEmmen\, Sonnenplatz\, 9.30-12 Uhr\nKriens\, Hofmatt\, 9-11 und 11-13 Uhr\nLuzern\, Theaterplatz\, 9-11 und 11-13 Uhr\nSursee\, Martignyplatz\, 9-11 Uhr\nWillisau\, tbd\, 9.30-11.30 \nHier gehts zum Anmeldeformular.
URL:https://sp-luzern.ch/veranstaltung/abzocker-initiativen-kantonaler-sammeltag2/
END:VEVENT
END:VCALENDAR