BEGIN:VCALENDAR
VERSION:2.0
PRODID:-//SP Kanton Luzern - ECPv6.15.20//NONSGML v1.0//EN
CALSCALE:GREGORIAN
METHOD:PUBLISH
X-WR-CALNAME:SP Kanton Luzern
X-ORIGINAL-URL:https://sp-luzern.ch
X-WR-CALDESC:Veranstaltungen im SP Kanton Luzern
REFRESH-INTERVAL;VALUE=DURATION:PT1H
X-Robots-Tag:noindex
X-PUBLISHED-TTL:PT1H
BEGIN:VTIMEZONE
TZID:Europe/Zurich
BEGIN:DAYLIGHT
TZOFFSETFROM:+0100
TZOFFSETTO:+0200
TZNAME:CEST
DTSTART:20250330T010000
END:DAYLIGHT
BEGIN:STANDARD
TZOFFSETFROM:+0200
TZOFFSETTO:+0100
TZNAME:CET
DTSTART:20251026T010000
END:STANDARD
BEGIN:DAYLIGHT
TZOFFSETFROM:+0100
TZOFFSETTO:+0200
TZNAME:CEST
DTSTART:20260329T010000
END:DAYLIGHT
BEGIN:STANDARD
TZOFFSETFROM:+0200
TZOFFSETTO:+0100
TZNAME:CET
DTSTART:20261025T010000
END:STANDARD
BEGIN:DAYLIGHT
TZOFFSETFROM:+0100
TZOFFSETTO:+0200
TZNAME:CEST
DTSTART:20270328T010000
END:DAYLIGHT
BEGIN:STANDARD
TZOFFSETFROM:+0200
TZOFFSETTO:+0100
TZNAME:CET
DTSTART:20271031T010000
END:STANDARD
END:VTIMEZONE
BEGIN:VEVENT
DTSTART;TZID=Europe/Zurich:20260401T193000
DTEND;TZID=Europe/Zurich:20260401T210000
DTSTAMP:20260421T120854
CREATED:20251218T143026Z
LAST-MODIFIED:20260327T145255Z
UID:90619-1775071800-1775077200@sp-luzern.ch
SUMMARY:Nah-bar mit Ylfete Fanaj in Sempach
DESCRIPTION:  \nNah-Bar mit Regierungsrätin Ylfete Fanaj. Ylfete Fanaj berichtet von ihrer Arbeit als Regierungsrätin und steht für Fragen und Diskussionen zur Verfügung. \nMittwoch\, 1. April 2026\, 19.30 Uhr \n 
URL:https://sp-luzern.ch/veranstaltung/nah-bar-sempach/
END:VEVENT
END:VCALENDAR