BEGIN:VCALENDAR
VERSION:2.0
PRODID:-//SP Kanton Luzern - ECPv6.15.20//NONSGML v1.0//EN
CALSCALE:GREGORIAN
METHOD:PUBLISH
X-WR-CALNAME:SP Kanton Luzern
X-ORIGINAL-URL:https://sp-luzern.ch
X-WR-CALDESC:Veranstaltungen im SP Kanton Luzern
REFRESH-INTERVAL;VALUE=DURATION:PT1H
X-Robots-Tag:noindex
X-PUBLISHED-TTL:PT1H
BEGIN:VTIMEZONE
TZID:Europe/Zurich
BEGIN:DAYLIGHT
TZOFFSETFROM:+0100
TZOFFSETTO:+0200
TZNAME:CEST
DTSTART:20150329T010000
END:DAYLIGHT
BEGIN:STANDARD
TZOFFSETFROM:+0200
TZOFFSETTO:+0100
TZNAME:CET
DTSTART:20151025T010000
END:STANDARD
BEGIN:DAYLIGHT
TZOFFSETFROM:+0100
TZOFFSETTO:+0200
TZNAME:CEST
DTSTART:20160327T010000
END:DAYLIGHT
BEGIN:STANDARD
TZOFFSETFROM:+0200
TZOFFSETTO:+0100
TZNAME:CET
DTSTART:20161030T010000
END:STANDARD
BEGIN:DAYLIGHT
TZOFFSETFROM:+0100
TZOFFSETTO:+0200
TZNAME:CEST
DTSTART:20170326T010000
END:DAYLIGHT
BEGIN:STANDARD
TZOFFSETFROM:+0200
TZOFFSETTO:+0100
TZNAME:CET
DTSTART:20171029T010000
END:STANDARD
END:VTIMEZONE
BEGIN:VEVENT
DTSTART;TZID=Europe/Zurich:20160512T173000
DTEND;TZID=Europe/Zurich:20160512T173000
DTSTAMP:20260422T120011
CREATED:20160317T100113Z
LAST-MODIFIED:20160317T100113Z
UID:86080-1463074200-1463074200@sp-luzern.ch
SUMMARY:Öffentliche Diskussion: Die AHV geht uns alle an
DESCRIPTION:Begrüssung: Margrit Grünwald\, Co-Präsidentin SP 60+ Kanton LuzernAltersvorsorge 2020: Prisca Birrer-Heimo\, SP-Nationalrätin\, Rothenburg (Kurzreferat)Die AHVplus-Initiative: David Roth\, SP-Parteipräsident des Kantons Luzern  \nDiskussion mit dem Publikum\, den Referent_innen und Werner Schnieper\, ehem. SP-Stadtrat Luzern\, und Mitglied der SP 60+  \nModeration Yvonne Zemp-Baumgartner\, SP-Kantonsrätin\, Sursee  \nSP 60+ Kanton Luzern in Zusammenarbeit mit der SP Sursee
URL:https://sp-luzern.ch/veranstaltung/oeffentliche-diskussion-die-ahv-geht-uns-alle-an/
END:VEVENT
END:VCALENDAR